BEGIN:VCALENDAR
VERSION:2.0
PRODID:-//Mountain Park - ECPv6.15.20//NONSGML v1.0//EN
CALSCALE:GREGORIAN
METHOD:PUBLISH
X-WR-CALNAME:Mountain Park
X-ORIGINAL-URL:https://mtparkhoa.com
X-WR-CALDESC:Events for Mountain Park
REFRESH-INTERVAL;VALUE=DURATION:PT1H
X-Robots-Tag:noindex
X-PUBLISHED-TTL:PT1H
BEGIN:VTIMEZONE
TZID:America/Denver
BEGIN:DAYLIGHT
TZOFFSETFROM:-0700
TZOFFSETTO:-0600
TZNAME:MDT
DTSTART:20250309T090000
END:DAYLIGHT
BEGIN:STANDARD
TZOFFSETFROM:-0600
TZOFFSETTO:-0700
TZNAME:MST
DTSTART:20251102T080000
END:STANDARD
BEGIN:DAYLIGHT
TZOFFSETFROM:-0700
TZOFFSETTO:-0600
TZNAME:MDT
DTSTART:20260308T090000
END:DAYLIGHT
BEGIN:STANDARD
TZOFFSETFROM:-0600
TZOFFSETTO:-0700
TZNAME:MST
DTSTART:20261101T080000
END:STANDARD
BEGIN:DAYLIGHT
TZOFFSETFROM:-0700
TZOFFSETTO:-0600
TZNAME:MDT
DTSTART:20270314T090000
END:DAYLIGHT
BEGIN:STANDARD
TZOFFSETFROM:-0600
TZOFFSETTO:-0700
TZNAME:MST
DTSTART:20271107T080000
END:STANDARD
END:VTIMEZONE
BEGIN:VEVENT
DTSTART;TZID=America/Denver:20260512T183000
DTEND;TZID=America/Denver:20260512T193000
DTSTAMP:20260422T133415
CREATED:20241210T224722Z
LAST-MODIFIED:20260310T155525Z
UID:10071808-1778610600-1778614200@mtparkhoa.com
SUMMARY:Architectural Committee Meeting (Hybrid)
DESCRIPTION:This meeting will take place at the Clubhouse Trillium Room and on Teams. Register for the Teams meeting in advance HERE.
URL:https://mtparkhoa.com/event/architectural-committee-meeting-hybrid-2025-09-09/2026-05-12/
ATTACH;FMTTYPE=image/png:https://mtparkhoa.com/wp-content/uploads/2025/12/Green-Modern-Fitness-App-Logo.png
END:VEVENT
BEGIN:VEVENT
DTSTART;TZID=America/Denver:20260609T183000
DTEND;TZID=America/Denver:20260609T193000
DTSTAMP:20260422T133415
CREATED:20241210T224722Z
LAST-MODIFIED:20260310T155525Z
UID:10071809-1781029800-1781033400@mtparkhoa.com
SUMMARY:Architectural Committee Meeting (Hybrid)
DESCRIPTION:This meeting will take place at the Clubhouse Trillium Room and on Teams. Register for the Teams meeting in advance HERE.
URL:https://mtparkhoa.com/event/architectural-committee-meeting-hybrid-2025-09-09/2026-06-09/
ATTACH;FMTTYPE=image/png:https://mtparkhoa.com/wp-content/uploads/2025/12/Green-Modern-Fitness-App-Logo.png
END:VEVENT
BEGIN:VEVENT
DTSTART;TZID=America/Denver:20260714T183000
DTEND;TZID=America/Denver:20260714T193000
DTSTAMP:20260422T133415
CREATED:20241210T224722Z
LAST-MODIFIED:20260310T155525Z
UID:10071810-1784053800-1784057400@mtparkhoa.com
SUMMARY:Architectural Committee Meeting (Hybrid)
DESCRIPTION:This meeting will take place at the Clubhouse Trillium Room and on Teams. Register for the Teams meeting in advance HERE.
URL:https://mtparkhoa.com/event/architectural-committee-meeting-hybrid-2025-09-09/2026-07-14/
ATTACH;FMTTYPE=image/png:https://mtparkhoa.com/wp-content/uploads/2025/12/Green-Modern-Fitness-App-Logo.png
END:VEVENT
BEGIN:VEVENT
DTSTART;TZID=America/Denver:20260811T183000
DTEND;TZID=America/Denver:20260811T193000
DTSTAMP:20260422T133415
CREATED:20241210T224722Z
LAST-MODIFIED:20260310T155525Z
UID:10071811-1786473000-1786476600@mtparkhoa.com
SUMMARY:Architectural Committee Meeting (Hybrid)
DESCRIPTION:This meeting will take place at the Clubhouse Trillium Room and on Teams. Register for the Teams meeting in advance HERE.
URL:https://mtparkhoa.com/event/architectural-committee-meeting-hybrid-2025-09-09/2026-08-11/
ATTACH;FMTTYPE=image/png:https://mtparkhoa.com/wp-content/uploads/2025/12/Green-Modern-Fitness-App-Logo.png
END:VEVENT
BEGIN:VEVENT
DTSTART;TZID=America/Denver:20260908T183000
DTEND;TZID=America/Denver:20260908T193000
DTSTAMP:20260422T133415
CREATED:20241210T224722Z
LAST-MODIFIED:20260310T155525Z
UID:10071812-1788892200-1788895800@mtparkhoa.com
SUMMARY:Architectural Committee Meeting (Hybrid)
DESCRIPTION:This meeting will take place at the Clubhouse Trillium Room and on Teams. Register for the Teams meeting in advance HERE.
URL:https://mtparkhoa.com/event/architectural-committee-meeting-hybrid-2025-09-09/2026-09-08/
ATTACH;FMTTYPE=image/png:https://mtparkhoa.com/wp-content/uploads/2025/12/Green-Modern-Fitness-App-Logo.png
END:VEVENT
BEGIN:VEVENT
DTSTART;TZID=America/Denver:20261013T183000
DTEND;TZID=America/Denver:20261013T193000
DTSTAMP:20260422T133415
CREATED:20241210T224722Z
LAST-MODIFIED:20260310T155525Z
UID:10071813-1791916200-1791919800@mtparkhoa.com
SUMMARY:Architectural Committee Meeting (Hybrid)
DESCRIPTION:This meeting will take place at the Clubhouse Trillium Room and on Teams. Register for the Teams meeting in advance HERE.
URL:https://mtparkhoa.com/event/architectural-committee-meeting-hybrid-2025-09-09/2026-10-13/
ATTACH;FMTTYPE=image/png:https://mtparkhoa.com/wp-content/uploads/2025/12/Green-Modern-Fitness-App-Logo.png
END:VEVENT
BEGIN:VEVENT
DTSTART;TZID=America/Denver:20261110T183000
DTEND;TZID=America/Denver:20261110T193000
DTSTAMP:20260422T133415
CREATED:20241210T224722Z
LAST-MODIFIED:20260310T155525Z
UID:10071814-1794335400-1794339000@mtparkhoa.com
SUMMARY:Architectural Committee Meeting (Hybrid)
DESCRIPTION:This meeting will take place at the Clubhouse Trillium Room and on Teams. Register for the Teams meeting in advance HERE.
URL:https://mtparkhoa.com/event/architectural-committee-meeting-hybrid-2025-09-09/2026-11-10/
ATTACH;FMTTYPE=image/png:https://mtparkhoa.com/wp-content/uploads/2025/12/Green-Modern-Fitness-App-Logo.png
END:VEVENT
BEGIN:VEVENT
DTSTART;TZID=America/Denver:20261208T183000
DTEND;TZID=America/Denver:20261208T193000
DTSTAMP:20260422T133415
CREATED:20241210T224722Z
LAST-MODIFIED:20260310T155525Z
UID:10071815-1796754600-1796758200@mtparkhoa.com
SUMMARY:Architectural Committee Meeting (Hybrid)
DESCRIPTION:This meeting will take place at the Clubhouse Trillium Room and on Teams. Register for the Teams meeting in advance HERE.
URL:https://mtparkhoa.com/event/architectural-committee-meeting-hybrid-2025-09-09/2026-12-08/
ATTACH;FMTTYPE=image/png:https://mtparkhoa.com/wp-content/uploads/2025/12/Green-Modern-Fitness-App-Logo.png
END:VEVENT
END:VCALENDAR