BEGIN:VCALENDAR
VERSION:2.0
PRODID:-//Mountain Park - ECPv6.15.20//NONSGML v1.0//EN
CALSCALE:GREGORIAN
METHOD:PUBLISH
X-WR-CALNAME:Mountain Park
X-ORIGINAL-URL:https://mtparkhoa.com
X-WR-CALDESC:Events for Mountain Park
REFRESH-INTERVAL;VALUE=DURATION:PT1H
X-Robots-Tag:noindex
X-PUBLISHED-TTL:PT1H
BEGIN:VTIMEZONE
TZID:America/Denver
BEGIN:DAYLIGHT
TZOFFSETFROM:-0700
TZOFFSETTO:-0600
TZNAME:MDT
DTSTART:20250309T090000
END:DAYLIGHT
BEGIN:STANDARD
TZOFFSETFROM:-0600
TZOFFSETTO:-0700
TZNAME:MST
DTSTART:20251102T080000
END:STANDARD
BEGIN:DAYLIGHT
TZOFFSETFROM:-0700
TZOFFSETTO:-0600
TZNAME:MDT
DTSTART:20260308T090000
END:DAYLIGHT
BEGIN:STANDARD
TZOFFSETFROM:-0600
TZOFFSETTO:-0700
TZNAME:MST
DTSTART:20261101T080000
END:STANDARD
BEGIN:DAYLIGHT
TZOFFSETFROM:-0700
TZOFFSETTO:-0600
TZNAME:MDT
DTSTART:20270314T090000
END:DAYLIGHT
BEGIN:STANDARD
TZOFFSETFROM:-0600
TZOFFSETTO:-0700
TZNAME:MST
DTSTART:20271107T080000
END:STANDARD
END:VTIMEZONE
BEGIN:VEVENT
DTSTART;TZID=America/Denver:20260407T180000
DTEND;TZID=America/Denver:20260407T190000
DTSTAMP:20260421T080232
CREATED:20260310T155743Z
LAST-MODIFIED:20260401T173106Z
UID:10071845-1775584800-1775588400@mtparkhoa.com
SUMMARY:Cancelled 4/7 - Clubhouse Committee Meeting (Zoom)
DESCRIPTION:Clubhouse Committee Meeting (Zoom) for 4/7
URL:https://mtparkhoa.com/event/cancelled-3-10-architectural-committee-meeting-hybrid/
LOCATION:OR
END:VEVENT
END:VCALENDAR