BEGIN:VCALENDAR
VERSION:2.0
PRODID:-//Mountain Park - ECPv6.15.20//NONSGML v1.0//EN
CALSCALE:GREGORIAN
METHOD:PUBLISH
X-ORIGINAL-URL:https://mtparkhoa.com
X-WR-CALDESC:Events for Mountain Park
REFRESH-INTERVAL;VALUE=DURATION:PT1H
X-Robots-Tag:noindex
X-PUBLISHED-TTL:PT1H
BEGIN:VTIMEZONE
TZID:America/Los_Angeles
BEGIN:DAYLIGHT
TZOFFSETFROM:-0800
TZOFFSETTO:-0700
TZNAME:PDT
DTSTART:20220313T100000
END:DAYLIGHT
BEGIN:STANDARD
TZOFFSETFROM:-0700
TZOFFSETTO:-0800
TZNAME:PST
DTSTART:20221106T090000
END:STANDARD
BEGIN:DAYLIGHT
TZOFFSETFROM:-0800
TZOFFSETTO:-0700
TZNAME:PDT
DTSTART:20230312T100000
END:DAYLIGHT
BEGIN:STANDARD
TZOFFSETFROM:-0700
TZOFFSETTO:-0800
TZNAME:PST
DTSTART:20231105T090000
END:STANDARD
BEGIN:DAYLIGHT
TZOFFSETFROM:-0800
TZOFFSETTO:-0700
TZNAME:PDT
DTSTART:20240310T100000
END:DAYLIGHT
BEGIN:STANDARD
TZOFFSETFROM:-0700
TZOFFSETTO:-0800
TZNAME:PST
DTSTART:20241103T090000
END:STANDARD
END:VTIMEZONE
BEGIN:VEVENT
DTSTART;TZID=America/Los_Angeles:20231108T183000
DTEND;TZID=America/Los_Angeles:20231108T203000
DTSTAMP:20260420T101326
CREATED:20231025T182638Z
LAST-MODIFIED:20231108T204812Z
UID:10001189-1699468200-1699475400@mtparkhoa.com
SUMMARY:Board of Directors Budget Meeting (Hybrid)
DESCRIPTION:This meeting will be held in the Clubhouse Trillium Room and via Zoom. Register for the meeting in advance by clicking HERE.
URL:https://mtparkhoa.com/event/board-directors-budget-meeting-hybrid/
LOCATION:2 Mt. Jefferson Terrace\, Lake Oswego\, OR\, 97035\, United States
END:VEVENT
END:VCALENDAR