BEGIN:VCALENDAR
VERSION:2.0
PRODID:-//Mountain Park - ECPv6.15.20//NONSGML v1.0//EN
CALSCALE:GREGORIAN
METHOD:PUBLISH
X-WR-CALNAME:Mountain Park
X-ORIGINAL-URL:https://mtparkhoa.com
X-WR-CALDESC:Events for Mountain Park
REFRESH-INTERVAL;VALUE=DURATION:PT1H
X-Robots-Tag:noindex
X-PUBLISHED-TTL:PT1H
BEGIN:VTIMEZONE
TZID:America/Denver
BEGIN:DAYLIGHT
TZOFFSETFROM:-0700
TZOFFSETTO:-0600
TZNAME:MDT
DTSTART:20210314T090000
END:DAYLIGHT
BEGIN:STANDARD
TZOFFSETFROM:-0600
TZOFFSETTO:-0700
TZNAME:MST
DTSTART:20211107T080000
END:STANDARD
BEGIN:DAYLIGHT
TZOFFSETFROM:-0700
TZOFFSETTO:-0600
TZNAME:MDT
DTSTART:20220313T090000
END:DAYLIGHT
BEGIN:STANDARD
TZOFFSETFROM:-0600
TZOFFSETTO:-0700
TZNAME:MST
DTSTART:20221106T080000
END:STANDARD
BEGIN:DAYLIGHT
TZOFFSETFROM:-0700
TZOFFSETTO:-0600
TZNAME:MDT
DTSTART:20230312T090000
END:DAYLIGHT
BEGIN:STANDARD
TZOFFSETFROM:-0600
TZOFFSETTO:-0700
TZNAME:MST
DTSTART:20231105T080000
END:STANDARD
END:VTIMEZONE
BEGIN:VEVENT
DTSTART;TZID=America/Denver:20221201T180000
DTEND;TZID=America/Denver:20221201T190000
DTSTAMP:20260423T042751
CREATED:20221115T205420Z
LAST-MODIFIED:20221115T205420Z
UID:10001120-1669917600-1669921200@mtparkhoa.com
SUMMARY:Hazardous Fuel Reduction Project PUBLIC FORUM
DESCRIPTION:This meeting will take place in-person at the Clubhouse Trillium Room and on Zoom. Register for the Zoom meeting in advance HERE. \n 
URL:https://mtparkhoa.com/event/hazardous-fuel-reduction-project-public-forum/
LOCATION:2 Mt. Jefferson Terrace\, Lake Oswego\, OR\, 97035\, United States
CATEGORIES:Featured,Hazardous Fuel
END:VEVENT
END:VCALENDAR